BEGIN:VCALENDAR
VERSION:2.0
PRODID:-//MediaDesign//MediaDesign.at//DE
CALSCALE:GREGORIAN
BEGIN:VEVENT
DTSTART:20260430T193000
DTEND:20260430T203000
LOCATION:Brunnenplatz 4\, 7210 Mattersburg
DTSTAMP:20260426T013230
SUMMARY:Fackelzug SP
URL;VALUE=URI:https://mattersburg.gv.at
DESCRIPTION:
UID:20260426T013230-20260430T193000-20260430T203000
END:VEVENT
END:VCALENDAR