BEGIN:VCALENDAR
VERSION:2.0
PRODID:-//MediaDesign//MediaDesign.at//DE
CALSCALE:GREGORIAN
BEGIN:VEVENT
DTSTART:20260505T190000
DTEND:20260505T200000
LOCATION:Wulkalände 2\, 7210 Mattersburg
DTSTAMP:20260426T031657
SUMMARY:Petra Piuk  Daniel Wisser
URL;VALUE=URI:https://mattersburg.gv.at
DESCRIPTION:Lesung und Gesprch
UID:20260426T031657-20260505T190000-20260505T200000
END:VEVENT
END:VCALENDAR