BEGIN:VCALENDAR
VERSION:2.0
PRODID:-//MediaDesign//MediaDesign.at//DE
CALSCALE:GREGORIAN
BEGIN:VEVENT
DTSTART:20260425T170000
DTEND:20260425T180000
LOCATION:7210 Mattersburg
DTSTAMP:20260424T025836
SUMMARY:Kinderlesung mit Rocky Rakete
URL;VALUE=URI:https://mattersburg.gv.at
DESCRIPTION:Lange Nacht der Bibiliotheken
UID:20260424T025836-20260425T170000-20260425T180000
END:VEVENT
END:VCALENDAR