BEGIN:VCALENDAR
VERSION:2.0
PRODID:-//MediaDesign//MediaDesign.at//DE
CALSCALE:GREGORIAN
BEGIN:VEVENT
DTSTART:20260425T083000
DTEND:20260425T093000
LOCATION:Mattersburg
DTSTAMP:20260424T014437
SUMMARY:Pflanzenmarkt 
URL;VALUE=URI:https://mattersburg.gv.at
DESCRIPTION:in Mattersburg
UID:20260424T014437-20260425T083000-20260425T093000
END:VEVENT
END:VCALENDAR