BEGIN:VCALENDAR
VERSION:2.0
PRODID:-//MediaDesign//MediaDesign.at//DE
CALSCALE:GREGORIAN
BEGIN:VEVENT
DTSTART:20260423T150000
DTEND:20260423T160000
LOCATION:Hauptstraße 15 Mattersburg
DTSTAMP:20260420T020242
SUMMARY:GenerationenTreff
URL;VALUE=URI:https://mattersburg.gv.at
DESCRIPTION:
UID:20260420T020242-20260423T150000-20260423T160000
END:VEVENT
END:VCALENDAR